BEGIN:VCALENDAR
PRODID:-//eluceo/ical//2.0/EN
VERSION:2.0
CALSCALE:GREGORIAN
BEGIN:VEVENT
UID:14ccc187131a43f68242db8fbf089e5e
DTSTAMP:20260420T172640Z
SUMMARY:Youth Mental Health First Aid
DESCRIPTION:Jewish Federation of Greater Hartford\nCommunity Calendar\nhttp
 s://jewishhartford.org/community-calendar/youth-mental-health-first-aid-17
 24185007\n\nYouth Mental Health First Aid is designed to teach parents\, f
 amily members\, caregivers\, teachers\, school staff\, neighbors\, health 
 and human services workers\, and other caring citizens how to help an adol
 escent (age 12-18) who is experiencing a mental health or addictions chall
 enge or is in crisis. Youth Mental Health First Aid is primarily designed 
 for adults who regularly interact with young people. The course introduces
  common mental health challenges for youth\, reviews typical adolescent d.
 ..
DTSTART;TZID=America/New_York:20241009T090000
DTEND;TZID=America/New_York:20241009T150000
END:VEVENT
END:VCALENDAR
