BEGIN:VCALENDAR
PRODID:-//eluceo/ical//2.0/EN
VERSION:2.0
CALSCALE:GREGORIAN
BEGIN:VEVENT
UID:19ac9ae02e606514ce77a0ec5360c93c
DTSTAMP:20260423T101113Z
SUMMARY:Young Israel Cholent Cookoff Classic
DESCRIPTION:Jewish Federation of Greater Hartford\nCommunity Calendar\nhttp
 s://jewishhartford.org/community-calendar/young-israel-cholent-cookoff-cla
 ssic-1706538188\n\nWant to win the coveted Golden Ladle?\nJoin the Chulent
  Cook- Off Classice\nFebruary 17 & 24\, 2024\nWinners from each week compe
 te head-to-head in the March 2nd finale\n$18 to enter competition!\nSponso
 rship OPPORTUNITIES Available
DTSTART;TZID=America/New_York:20240217T110000
DTEND;TZID=America/New_York:20240217T120000
END:VEVENT
END:VCALENDAR
