BEGIN:VCALENDAR
PRODID:-//eluceo/ical//2.0/EN
VERSION:2.0
CALSCALE:GREGORIAN
BEGIN:VEVENT
UID:43fb099f62060702d7c56017139c900b
DTSTAMP:20260423T231209Z
SUMMARY:Yidlife Crisis
DESCRIPTION:Jewish Federation of Greater Hartford\nCommunity Calendar\nhttp
 s://jewishhartford.org/community-calendar/yidlife-crisis-1709582214\n\nYid
  Life Crisis comedy event on Monday\, March 25 at 6:30pm at UConn Hillel. 
 Admission is free and no tickets are required.
DTSTART;TZID=America/New_York:20240325T183000
DTEND;TZID=America/New_York:20240325T203000
END:VEVENT
END:VCALENDAR
