BEGIN:VCALENDAR
PRODID:-//eluceo/ical//2.0/EN
VERSION:2.0
CALSCALE:GREGORIAN
BEGIN:VEVENT
UID:048c9f6ba329be41f70920d9b96da099
DTSTAMP:20260421T143216Z
SUMMARY:Yaysh Hartford Information Sessions
DESCRIPTION:Jewish Federation of Greater Hartford\nCommunity Calendar\nhttp
 s://jewishhartford.org/community-calendar/yaysh-hartford-information-sessi
 ons-1709602106\n\nJoin us for an upcoming information session!
DTSTART;TZID=America/New_York:20240321T190000
DTEND;TZID=America/New_York:20240321T200000
END:VEVENT
END:VCALENDAR
