BEGIN:VCALENDAR
PRODID:-//eluceo/ical//2.0/EN
VERSION:2.0
CALSCALE:GREGORIAN
BEGIN:VEVENT
UID:96522ac6db7359fee9e1263ac14f319e
DTSTAMP:20260421T063951Z
SUMMARY:Wine & Cheese Social - 20's & 30's
DESCRIPTION:Jewish Federation of Greater Hartford\nCommunity Calendar\nhttp
 s://jewishhartford.org/community-calendar/wine--cheese-social---20s--30s-1
 706735242\n\nGrab a glass of wine and mingle with your peers after hours a
 t The Crown Market in West Hartford\, CT.\n\nMeet new friends at this excl
 usive event for ages 21 to 39. Hosted by Urban Dor. Security present.\nInc
 luded in each ticket:\n-Kosher wine (whites and reds)\n-Crackers and chees
 e platter\n-Exclusive socializing for ages 21 to 39\n-Goodbye Goodie Bag
DTSTART;TZID=America/New_York:20240316T203000
DTEND;TZID=America/New_York:20240316T223000
END:VEVENT
END:VCALENDAR
