BEGIN:VCALENDAR
PRODID:-//eluceo/ical//2.0/EN
VERSION:2.0
CALSCALE:GREGORIAN
BEGIN:VEVENT
UID:f2d66d6f4bfcf4dbc4bc979f36c45da9
DTSTAMP:20260419T195933Z
SUMMARY:Who Knows One?
DESCRIPTION:Jewish Federation of Greater Hartford\nCommunity Calendar\nhttp
 s://jewishhartford.org/community-calendar/who-knows-one\n\nIt’s not who 
 you know\, it’s who who you know knows!  More details to follow!
DTSTART;TZID=America/New_York:20240519T160000
DTEND;TZID=America/New_York:20240519T200000
END:VEVENT
END:VCALENDAR
