BEGIN:VCALENDAR
PRODID:-//eluceo/ical//2.0/EN
VERSION:2.0
CALSCALE:GREGORIAN
BEGIN:VEVENT
UID:33778e10fe391b384121ee5b66651de8
DTSTAMP:20260425T013532Z
SUMMARY:West Hartford USY Sigd Celebration
DESCRIPTION:Jewish Federation of Greater Hartford\nCommunity Calendar\nhttp
 s://jewishhartford.org/community-calendar/west-hartford-usy-sigd-celebrati
 on-1690387437\n\nJoin West Hartford USY in celebrating Sigd\, an Ethopian 
 Jewish holiday. We&#39\;ll enjoy traditional foods and music\, and learn m
 ore about the unique heritage of the Beta Israel community.
DTSTART;TZID=America/New_York:20231112T160000
DTEND;TZID=America/New_York:20231112T180000
END:VEVENT
END:VCALENDAR
