BEGIN:VCALENDAR
PRODID:-//eluceo/ical//2.0/EN
VERSION:2.0
CALSCALE:GREGORIAN
BEGIN:VEVENT
UID:75013fe41471e742900aa8fed9e5b6e3
DTSTAMP:20260423T134752Z
SUMMARY:RED LETTER: Voices of Hope Speak Up
DESCRIPTION:Jewish Federation of Greater Hartford\nCommunity Calendar\nhttp
 s://jewishhartford.org/community-calendar/voices-of-hope-speak-up-17078706
 41\n\nJoin us for our annual Speak Up Showcase
DTSTART;TZID=America/New_York:20240617T190000
DTEND;TZID=America/New_York:20240617T210000
END:VEVENT
END:VCALENDAR
