BEGIN:VCALENDAR
PRODID:-//eluceo/ical//2.0/EN
VERSION:2.0
CALSCALE:GREGORIAN
BEGIN:VEVENT
UID:c8362716341087a7e71fe82ab10a524a
DTSTAMP:20260421T184714Z
SUMMARY:Voices of Hope Board Meeting
DESCRIPTION:Jewish Federation of Greater Hartford\nCommunity Calendar\nhttp
 s://jewishhartford.org/community-calendar/voices-of-hope-board-meeting-169
 6447060\n\nVoices of Hope Board Meeting
DTSTART;TZID=America/New_York:20240918T183000
DTEND;TZID=America/New_York:20240918T193000
END:VEVENT
END:VCALENDAR
