BEGIN:VCALENDAR
PRODID:-//eluceo/ical//2.0/EN
VERSION:2.0
CALSCALE:GREGORIAN
BEGIN:VEVENT
UID:3b9d57195013e2b59e6d1f47402c5528
DTSTAMP:20260421T193439Z
SUMMARY:Voices of Hope Board Meeting
DESCRIPTION:Jewish Federation of Greater Hartford\nCommunity Calendar\nhttp
 s://jewishhartford.org/community-calendar/voices-of-hope-board-meeting-169
 6446475\n\nBoard Meeting
DTSTART;TZID=America/New_York:20240313T183000
DTEND;TZID=America/New_York:20240313T193000
END:VEVENT
END:VCALENDAR
