BEGIN:VCALENDAR
PRODID:-//eluceo/ical//2.0/EN
VERSION:2.0
CALSCALE:GREGORIAN
BEGIN:VEVENT
UID:9e859843c7a1a5b670f35eba4e271122
DTSTAMP:20260424T052853Z
SUMMARY:Voices of Hope Board Meeting
DESCRIPTION:Jewish Federation of Greater Hartford\nCommunity Calendar\nhttp
 s://jewishhartford.org/community-calendar/voices-of-hope-board-meeting-166
 9058517\n\nVoices of Hope Board Meeting
DTSTART;TZID=America/New_York:20231010T180000
DTEND;TZID=America/New_York:20231010T200000
END:VEVENT
END:VCALENDAR
