BEGIN:VCALENDAR
PRODID:-//eluceo/ical//2.0/EN
VERSION:2.0
CALSCALE:GREGORIAN
BEGIN:VEVENT
UID:471549506db64a745e404094e0acfdc6
DTSTAMP:20260424T083054Z
SUMMARY:Voices of Hope Board Meeting
DESCRIPTION:Jewish Federation of Greater Hartford\nCommunity Calendar\nhttp
 s://jewishhartford.org/community-calendar/voices-of-hope-board-meeting-166
 9058358\n\nVoices of Hope Board Meeting
DTSTART;TZID=America/New_York:20230726T180000
DTEND;TZID=America/New_York:20230726T200000
END:VEVENT
END:VCALENDAR
