BEGIN:VCALENDAR
PRODID:-//eluceo/ical//2.0/EN
VERSION:2.0
CALSCALE:GREGORIAN
BEGIN:VEVENT
UID:becfcc63b8c490ac8ca4c1caf5b9fda8
DTSTAMP:20260425T021030Z
SUMMARY:Voices of Hope Board Meeting
DESCRIPTION:Jewish Federation of Greater Hartford\nCommunity Calendar\nhttp
 s://jewishhartford.org/community-calendar/voices-of-hope-board-meeting-166
 9058307\n\nVoices of Hope Board Meeting
DTSTART;TZID=America/New_York:20230627T180000
DTEND;TZID=America/New_York:20230627T200000
END:VEVENT
END:VCALENDAR
