BEGIN:VCALENDAR
PRODID:-//eluceo/ical//2.0/EN
VERSION:2.0
CALSCALE:GREGORIAN
BEGIN:VEVENT
UID:87a6562530f4ac540524df370d964f93
DTSTAMP:20260423T102632Z
SUMMARY:Voices of Hope Annual Meeting
DESCRIPTION:Jewish Federation of Greater Hartford\nCommunity Calendar\nhttp
 s://jewishhartford.org/community-calendar/voices-of-hope-annual-meeting-16
 69058711\n\nVoices of Hope Annual Meeting
DTSTART;TZID=America/New_York:20231212T190000
DTEND;TZID=America/New_York:20231212T210000
END:VEVENT
END:VCALENDAR
