BEGIN:VCALENDAR
PRODID:-//eluceo/ical//2.0/EN
VERSION:2.0
CALSCALE:GREGORIAN
BEGIN:VEVENT
UID:6d8d507ab6f851777d7fbb3dba6977cd
DTSTAMP:20260422T072442Z
SUMMARY:Tu B'Shvat
DESCRIPTION:Jewish Federation of Greater Hartford\nCommunity Calendar\nhttp
 s://jewishhartford.org/community-calendar/tu-bshvat-1708617953\n\nHoliday
DTSTART;TZID=America/New_York:20240212T170000
DTEND;TZID=America/New_York:20240213T170000
END:VEVENT
END:VCALENDAR
