BEGIN:VCALENDAR
PRODID:-//eluceo/ical//2.0/EN
VERSION:2.0
CALSCALE:GREGORIAN
BEGIN:VEVENT
UID:a000674fe849ada068b7b5c2ed2801c1
DTSTAMP:20260422T220555Z
SUMMARY:Tu Bish'vat  PJ Havdalah
DESCRIPTION:Jewish Federation of Greater Hartford\nCommunity Calendar\nhttp
 s://jewishhartford.org/community-calendar/tu-bishvat--pj-havdalah-17050014
 67\n\nConnecting young families from around the Valley\, our Program welco
 mes all and is focused on Jewish Holidays throughout the year.
DTSTART;TZID=America/New_York:20240127T160000
DTEND;TZID=America/New_York:20240127T180000
END:VEVENT
END:VCALENDAR
