BEGIN:VCALENDAR
PRODID:-//eluceo/ical//2.0/EN
VERSION:2.0
CALSCALE:GREGORIAN
BEGIN:VEVENT
UID:6831fb6bfbfa798ab5017e72e0aa37c5
DTSTAMP:20260421T234630Z
SUMMARY:Trivia Night
DESCRIPTION:Jewish Federation of Greater Hartford\nCommunity Calendar\nhttp
 s://jewishhartford.org/community-calendar/trivia-night-1703029061\n\nJoin 
 us for Trivia Night at the Young Israel of West Hartford!
DTSTART;TZID=America/New_York:20240302T200000
DTEND;TZID=America/New_York:20240302T213000
END:VEVENT
END:VCALENDAR
