BEGIN:VCALENDAR
PRODID:-//eluceo/ical//2.0/EN
VERSION:2.0
CALSCALE:GREGORIAN
BEGIN:VEVENT
UID:6a5a4b02250e1e1a00b0a7c41fa3c66c
DTSTAMP:20260424T091709Z
SUMMARY:TRIBE in the Sukkah
DESCRIPTION:Jewish Federation of Greater Hartford\nCommunity Calendar\nhttp
 s://jewishhartford.org/community-calendar/tribe-in-the-sukkah-1695749797\n
 \nEnjoy a fun evening with refreshments. Reconnect with friends or if you&
 #39\;re interested in joining\, we&#39\;d love to meet you! Beth Israel&#3
 9\;s TRIBE connects Jews in their 20s and 30s (and their significant other
 s of any faith) in the Greater Hartford area through unique social and cul
 tural events. Programs include arts and sporting events\, community servic
 e projects\, and social gatherings.
DTSTART;TZID=America/New_York:20231002T180000
DTEND;TZID=America/New_York:20231002T190000
END:VEVENT
END:VCALENDAR
