BEGIN:VCALENDAR
PRODID:-//eluceo/ical//2.0/EN
VERSION:2.0
CALSCALE:GREGORIAN
BEGIN:VEVENT
UID:1cd4a04f2e84664dd29f561979ef3d23
DTSTAMP:20260422T231414Z
SUMMARY:Treasurers' Circle
DESCRIPTION:Jewish Federation of Greater Hartford\nCommunity Calendar\nhttp
 s://jewishhartford.org/community-calendar/treasurers-circle-120723-453714\
 n\nPlease Join us for Jewish Leadership Academy&#39\;s Treasurers&#39\; C
 ircle. Open to Lay treasurers of Jewish Synagogues and institutions in the
  Greater Hartford area\, this group will share resources and expertise to 
 better our organizations. We will also be enjoying latkes and lighting the
  candles for the first night of hanukkah! 
DTSTART;TZID=America/New_York:20231207T180000
DTEND;TZID=America/New_York:20231207T200000
END:VEVENT
END:VCALENDAR
