BEGIN:VCALENDAR
PRODID:-//eluceo/ical//2.0/EN
VERSION:2.0
CALSCALE:GREGORIAN
BEGIN:VEVENT
UID:861340bad0f1cafd3aefebfa19a47407
DTSTAMP:20260422T001410Z
SUMMARY:The Lunch  Club: Being Jewish in the Twilight Zone
DESCRIPTION:Jewish Federation of Greater Hartford\nCommunity Calendar\nhttp
 s://jewishhartford.org/community-calendar/the-lunch--club-being-jewish-in-
 the-twilight-zone-1705507508\n\nLunch\, presentation\, and discussion.
DTSTART;TZID=America/New_York:20240207T120000
DTEND;TZID=America/New_York:20240207T130000
END:VEVENT
END:VCALENDAR
