BEGIN:VCALENDAR
PRODID:-//eluceo/ical//2.0/EN
VERSION:2.0
CALSCALE:GREGORIAN
BEGIN:VEVENT
UID:dabd7fc8a1b140b1759e53650cfe11a1
DTSTAMP:20260423T114851Z
SUMMARY:The Impact of Emunah Afula:  Nurturing Vulnerable Children
DESCRIPTION:Jewish Federation of Greater Hartford\nCommunity Calendar\nhttp
 s://jewishhartford.org/community-calendar/the-impact-of-emunah-afula--nurt
 uring-vulnerable-children-1698861851\n\nFederation’s Israel & Overseas C
 ommittee with the Jewish Community Relations Council\ninvites you to \nAn 
 Afternoon Tea Time & Discussion: \n\nThe Impact of Emunah Afula\n\nNurturi
 ng Vulnerable Children\n\n \n\n\n \n\n\n\nTuesday\, November 7 | 2 - 3 p.m
 . | Free \n\nMandell JCC Board Room\n335 Bloomfield Avenue\nWest Hartford\
 n\n\nwith\n\n\n \n\nShlomo Kessel\nWorld Emunah\, International Director o
 f Philanthropy\n \n\nEli Deri \nEmunah Afula Graduate\n\n \n\n\n\nFor near
 ly 75 years\, Emunah...
DTSTART;TZID=America/New_York:20231107T140000
DTEND;TZID=America/New_York:20231107T150000
END:VEVENT
END:VCALENDAR
