BEGIN:VCALENDAR
PRODID:-//eluceo/ical//2.0/EN
VERSION:2.0
CALSCALE:GREGORIAN
BEGIN:VEVENT
UID:424cbd9c950ad64c18cb62db342abf50
DTSTAMP:20260422T175955Z
SUMMARY:The Evolution of American Jewish Literature with Amy Weiss
DESCRIPTION:Jewish Federation of Greater Hartford\nCommunity Calendar\nhttp
 s://jewishhartford.org/community-calendar/the-evolution-of-american-jewish
 -literature-with-amy-weiss-1708464033\n\nWhat is the Jewish literary tradi
 tion in the U.S.\, and which authors created it?  How did later authors\, 
 from Philip Roth to Nicole Krauss\, riff off or break from it?  What makes
  an author a Jewish author or a book a Jewish book\, anyway?  Join Amy Wei
 ss as she tackles these and other questions in a course equal parts histor
 y and book club discussions.    Amy will explore how the American Jewish l
 iterary tradition has evolved.
DTSTART;TZID=America/New_York:20240306T123000
DTEND;TZID=America/New_York:20240306T140000
END:VEVENT
END:VCALENDAR
