BEGIN:VCALENDAR
PRODID:-//eluceo/ical//2.0/EN
VERSION:2.0
CALSCALE:GREGORIAN
BEGIN:VEVENT
UID:3c178f2d6999837fb0ab5edfca420ca6
DTSTAMP:20260423T102246Z
SUMMARY:"T-L-C”: The Lunch Club
DESCRIPTION:Jewish Federation of Greater Hartford\nCommunity Calendar\nhttp
 s://jewishhartford.org/community-calendar/t-l-c-the-lunch-club-1702853755\
 n\nWhat can the various voices in our rabbinic tradition (Torah she’b’
 al peh) teach us about the origin and authority of the Five Books of Moses
 /Pentateuch (Torah she’bich’tav)?
DTSTART;TZID=America/New_York:20240110T120000
DTEND;TZID=America/New_York:20240110T130000
END:VEVENT
END:VCALENDAR
