BEGIN:VCALENDAR
PRODID:-//eluceo/ical//2.0/EN
VERSION:2.0
CALSCALE:GREGORIAN
BEGIN:VEVENT
UID:345b8b5bb4125dce1288d4d8de31c6ae
DTSTAMP:20260424T235821Z
SUMMARY:Sushi in the Sukkah!
DESCRIPTION:Jewish Federation of Greater Hartford\nCommunity Calendar\nhttp
 s://jewishhartford.org/community-calendar/sushi-in-the-sukkah-1692128693\n
 \nJoin us for a free Good. Great. Greater Hartford community get-together 
 complete with complimentary sushi\, pizza\, warm beverages\, & loads of fu
 n for everyone! Whether you’re new to Greater Hartford\, an established 
 professional\, or in search of friends for the kiddos\, you’re invited t
 o meet new members of the Jewish community as we celebrate Sukkot together
 . Be sure to bring the young ones for arts & crafts with PJ Library!\n\nRS
 VP Here: https://www.jewishhartford.org/sushiinthesukkah
DTSTART;TZID=America/New_York:20231003T170000
DTEND;TZID=America/New_York:20231003T190000
END:VEVENT
END:VCALENDAR
