BEGIN:VCALENDAR
PRODID:-//eluceo/ical//2.0/EN
VERSION:2.0
CALSCALE:GREGORIAN
BEGIN:VEVENT
UID:de61a3b697fce70eb293bb9740dae3aa
DTSTAMP:20260425T025410Z
SUMMARY:Special Sneak Peek: Golda starring Helen Mirren
DESCRIPTION:Jewish Federation of Greater Hartford\nCommunity Calendar\nhttp
 s://jewishhartford.org/community-calendar/special-sneak-peek-golda-starrin
 g-helen-mirren-1688605469\n\nJoin us for the first Hartford Jewish Film Fe
 stival screening of the 2023-2024 season. GOLDA\, starring Helen Mirren\, 
 will open countrywide the next day. Be the first to see it! Includes a pos
 t film pre-recorded discussion between director Guy Nattiv and Helen Mirre
 n.
DTSTART;TZID=America/New_York:20230823T190000
DTEND;TZID=America/New_York:20230823T210000
END:VEVENT
END:VCALENDAR
