BEGIN:VCALENDAR
PRODID:-//eluceo/ical//2.0/EN
VERSION:2.0
CALSCALE:GREGORIAN
BEGIN:VEVENT
UID:9a1db3f9521b2446dc627b97e7365dd1
DTSTAMP:20260423T114250Z
SUMMARY:Sip n' Sufganiyot
DESCRIPTION:Jewish Federation of Greater Hartford\nCommunity Calendar\nhttp
 s://jewishhartford.org/community-calendar/sip-n-sufganiyot-1694792765\n\nJ
 oin the Jewish Federation of Greater Hartford&#39\;s Emerging Leadership D
 ivision & the Mandell JCC&#39\;s shlicha\, Asif!\nSip n&#39\; Sufganiyot\n
 Some drinks\, some donuts\, and lots of fun together! We&#39\;ll light the
  Hannukah candles as we snack on delicious Israeli treats and beverages.\n
 \nCocktail mixer. Evening attire encouraged. 
DTSTART;TZID=America/New_York:20231212T183000
DTEND;TZID=America/New_York:20231212T200000
END:VEVENT
END:VCALENDAR
