BEGIN:VCALENDAR
PRODID:-//eluceo/ical//2.0/EN
VERSION:2.0
CALSCALE:GREGORIAN
BEGIN:VEVENT
UID:6634e348aec110d08553621539eaa433
DTSTAMP:20260424T112136Z
SUMMARY:Simchat Torah & Shabbat Service & Celebration
DESCRIPTION:Jewish Federation of Greater Hartford\nCommunity Calendar\nhttp
 s://jewishhartford.org/community-calendar/simchat-torah--shabbat-service--
 celebration-1695750366\n\nWe hope you will join us for our Simchat Torah C
 elebration and Shabbat Service! We begin anew our annual cycle of reading 
 the Torah. Refreshments and merriment\, including dancing with our klezmer
  band\, will follow the service!
DTSTART;TZID=America/New_York:20231006T180000
DTEND;TZID=America/New_York:20231006T193000
END:VEVENT
END:VCALENDAR
