BEGIN:VCALENDAR
PRODID:-//eluceo/ical//2.0/EN
VERSION:2.0
CALSCALE:GREGORIAN
BEGIN:VEVENT
UID:2da8b3b6e3e32b66bc5488d99e19a963
DTSTAMP:20260424T034513Z
SUMMARY:Shir Joy
DESCRIPTION:Jewish Federation of Greater Hartford\nCommunity Calendar\nhttp
 s://jewishhartford.org/community-calendar/shir-joy-1695751149\n\n"Shir Joy
 " is our CBI community singing group and about to begin its second year. T
 his is a group for those who love to sing and are interested in singing co
 ntemporary Jewish music for Shabbat\, holidays\, and general musical enjoy
 ment. The songs are mostly in English with some Hebrew (transliterations) 
 and reading music is not required - we learn mostly by rote. Led by our lo
 ng-time member\, music teacher\, and cantorial soloist Laura Deutsch\, thi
 s will be a fun and casual experience with some o...
DTSTART;TZID=America/New_York:20231015T103000
DTEND;TZID=America/New_York:20231015T113000
END:VEVENT
END:VCALENDAR
