BEGIN:VCALENDAR
PRODID:-//eluceo/ical//2.0/EN
VERSION:2.0
CALSCALE:GREGORIAN
BEGIN:VEVENT
UID:123199cd56685a0f5ac7e5383d11ac7e
DTSTAMP:20260424T065515Z
SUMMARY:Shabbat Under the Stars
DESCRIPTION:Jewish Federation of Greater Hartford\nCommunity Calendar\nhttp
 s://jewishhartford.org/community-calendar/shabbat-under-the-stars-16896925
 91\n\nJoin friends at Beth El Temple in West Hartford for a summer-themed 
 Israeli dinner and outdoor\, family-friendly service.\n\n5:00pm - Yard Gam
 es\n5:30pm - Outdoor Service\n6:30pm - Dinner\n\nTickets are $10/person\, 
 and free for children 0-4.\n\nRSVP by August 18 at noon at https://www.bet
 helwesthartford.org/event/shabbat-under-the-stars2023.html.
DTSTART;TZID=America/New_York:20230825T170000
DTEND;TZID=America/New_York:20230825T193000
END:VEVENT
END:VCALENDAR
