BEGIN:VCALENDAR
PRODID:-//eluceo/ical//2.0/EN
VERSION:2.0
CALSCALE:GREGORIAN
BEGIN:VEVENT
UID:19323568fce536a80559b6d2f6c7c349
DTSTAMP:20260423T150632Z
SUMMARY:Shabbat Service - with guest sermon
DESCRIPTION:Jewish Federation of Greater Hartford\nCommunity Calendar\nhttp
 s://jewishhartford.org/community-calendar/shabbat-service---with-guest-ser
 mon-1698440945\n\nJoin Gishrei Shalom for Friday night services. A guest s
 ermon will be given by Pastor Ron Brown from First Congregational Church o
 f Southington. The church is celebrating its 300th year as we celebrate ou
 r 40th. Rabbi Wasserman will lead the service. For Zoom link\, contact rab
 bi@gsjc.org.
DTSTART;TZID=America/New_York:20231117T193000
DTEND;TZID=America/New_York:20231117T203000
END:VEVENT
END:VCALENDAR
