BEGIN:VCALENDAR
PRODID:-//eluceo/ical//2.0/EN
VERSION:2.0
CALSCALE:GREGORIAN
BEGIN:VEVENT
UID:47e23d0b5047369eab6a65c011a96bf3
DTSTAMP:20260424T183428Z
SUMMARY:Shabbat Playgroup in the Park
DESCRIPTION:Jewish Federation of Greater Hartford\nCommunity Calendar\nhttp
 s://jewishhartford.org/community-calendar/shabbat-playgroup-in-the-park-16
 87290266\n\nCalling all 0-5 year olds and their grown-ups: come find your 
 people at the park! Join Rabbi Zerin\, Dr. Eliyahu\, and your Beth El Temp
 le friends for a relaxed Shabbat afternoon at Eisenhower Park. We will pro
 vide cold drinks and summer treats! RSVPs at tinyurl.com/ParkPlayJune24 ar
 e encouraged but not required.
DTSTART;TZID=America/New_York:20230624T150000
DTEND;TZID=America/New_York:20230624T170000
END:VEVENT
END:VCALENDAR
