BEGIN:VCALENDAR
PRODID:-//eluceo/ical//2.0/EN
VERSION:2.0
CALSCALE:GREGORIAN
BEGIN:VEVENT
UID:31c5aa708f665d6d52bea868e8323f9c
DTSTAMP:20260424T140447Z
SUMMARY:Shabbat Nachamu Dinner and Guest Speaker
DESCRIPTION:Jewish Federation of Greater Hartford\nCommunity Calendar\nhttp
 s://jewishhartford.org/community-calendar/shabbat-nachamu-dinner-and-guest
 -speaker-1689883680\n\nCelebrate Shabbat Nachamu with a catered dinner and
  guest speaker Asif Peretz\, our community Shalicha.\nFriday\, July 28\, 2
 023 • 10 Av 5783\n7:00 PM - 10:00 PM\n20 Dover Rd West Hartford\nChildre
 n under 5 are free. Register now for early bird pricing at $20.00 for all 
 ages (ends 7/24/23). Regular pricing is $30.00 for all ages beginning 7/25
 /23. We look forward to seeing you!
DTSTART;TZID=America/New_York:20230728T190000
DTEND;TZID=America/New_York:20230728T210000
END:VEVENT
END:VCALENDAR
