BEGIN:VCALENDAR
PRODID:-//eluceo/ical//2.0/EN
VERSION:2.0
CALSCALE:GREGORIAN
BEGIN:VEVENT
UID:10fabdda1d42f52b417ae210bb6ac2a9
DTSTAMP:20260424T170343Z
SUMMARY:Shabbat LIVE! Service\, then Dinner & Concert with Adam Blotner
DESCRIPTION:Jewish Federation of Greater Hartford\nCommunity Calendar\nhttp
 s://jewishhartford.org/community-calendar/shabbat-live-service-then-dinner
 --concert-with-adam-blotner-1695752329\n\nYou&#39\;ve joined him for servi
 ces\, how come hear his own compositions and inspirations. We&#39\;ll begi
 n the evening with our service featuring our Shabbat Band playing lively c
 ontemporary and Jewish tunes then enjoy a dinner and concert together. Adv
 anced registration required at www.cbict.org. Bring the whole family for a
  fun night together!
DTSTART;TZID=America/New_York:20231027T183000
DTEND;TZID=America/New_York:20231027T200000
END:VEVENT
END:VCALENDAR
