BEGIN:VCALENDAR
PRODID:-//eluceo/ical//2.0/EN
VERSION:2.0
CALSCALE:GREGORIAN
BEGIN:VEVENT
UID:10224cade5a600619f8d66e666071904
DTSTAMP:20260423T224318Z
SUMMARY:Shabbat LIVE! Service
DESCRIPTION:Jewish Federation of Greater Hartford\nCommunity Calendar\nhttp
 s://jewishhartford.org/community-calendar/shabbat-live-service-1698086218\
 n\nLift your spirits and inspire your soul at this Shabbat Service with co
 ntemporary and Jewish tunes by our amazing Shabbat Band.
DTSTART;TZID=America/New_York:20231124T183000
DTEND;TZID=America/New_York:20231124T193000
END:VEVENT
END:VCALENDAR
