BEGIN:VCALENDAR
PRODID:-//eluceo/ical//2.0/EN
VERSION:2.0
CALSCALE:GREGORIAN
BEGIN:VEVENT
UID:13d812ffdb1c6e656ef412bd602f95c2
DTSTAMP:20260424T065625Z
SUMMARY:Shabbat In The Park
DESCRIPTION:Jewish Federation of Greater Hartford\nCommunity Calendar\nhttp
 s://jewishhartford.org/community-calendar/shabbat-in-the-park-1688912969\n
 \nCome and unplug for Shabbat! Bring a blanket or chairs\, a picnic dinner
  and yard games! Leashed dogs are welcome.\n\nThis event is open to member
 s of Temple Sinai Newington\, guests\, friends\, and anyone who wishes to 
 be together for our weekly Shabbat service.\n\nIf inclement weather\, serv
 ice will be in our Sanctuary and on Zoom.
DTSTART;TZID=America/New_York:20230811T180000
DTEND;TZID=America/New_York:20230811T193000
END:VEVENT
END:VCALENDAR
