BEGIN:VCALENDAR
PRODID:-//eluceo/ical//2.0/EN
VERSION:2.0
CALSCALE:GREGORIAN
BEGIN:VEVENT
UID:528981cd0684ae6a023a23febbe17f34
DTSTAMP:20260424T135238Z
SUMMARY:Shabbat in the Park
DESCRIPTION:Jewish Federation of Greater Hartford\nCommunity Calendar\nhttp
 s://jewishhartford.org/community-calendar/shabbat-in-the-park-1687290444\n
 \nWe’ll bring the grape juice and challah\, and each family is invited t
 o bring their own picnic dinner! Enjoy some outdoor Shabbat stories\, song
 s\, and activities in a beautiful setting. RSVPs requested (via tinyurl.co
 m/ParkShabbat714) to let us know how much challah to bring and whom to con
 tact in case the weather is iffy. Contact Dr. Eliyahu Krigel (ekrigel@beth
 elwh.org) with any questions.
DTSTART;TZID=America/New_York:20230714T173000
DTEND;TZID=America/New_York:20230714T193000
END:VEVENT
END:VCALENDAR
