BEGIN:VCALENDAR
PRODID:-//eluceo/ical//2.0/EN
VERSION:2.0
CALSCALE:GREGORIAN
BEGIN:VEVENT
UID:294b4a28be97968f98836956c2cc4ca3
DTSTAMP:20260422T063814Z
SUMMARY:Shabbat Across America!
DESCRIPTION:Jewish Federation of Greater Hartford\nCommunity Calendar\nhttp
 s://jewishhartford.org/community-calendar/shabbat-across-america-170689895
 9\n\n“Turn an ordinary Friday night into something extraordinary!”\n\n
 On Friday night\, March 1\, 2024\, hundreds of synagogues across the conti
 nent will take part in an historic national Jewish event to celebrate what
  unifies all Jews — Shabbat! Everyone is invited…!\n\nThat’s the mag
 ic of Shabbat Across America and Shabbat Across Canada. By participating i
 n this continent-wide event\, you will not only have the opportunity to ex
 perience Shabbat\, but you will be sharing your experience with...
DTSTART;TZID=America/New_York:20240301T190000
DTEND;TZID=America/New_York:20240301T210000
END:VEVENT
END:VCALENDAR
