BEGIN:VCALENDAR
PRODID:-//eluceo/ical//2.0/EN
VERSION:2.0
CALSCALE:GREGORIAN
BEGIN:VEVENT
UID:d239bcdf3b03de2a84c6cba1f02c7b78
DTSTAMP:20260426T020059Z
SUMMARY:Shabbark Shalom
DESCRIPTION:Jewish Federation of Greater Hartford\nCommunity Calendar\nhttp
 s://jewishhartford.org/community-calendar/shabbark-shalom-1695751530\n\nJo
 in us for a walk on the trails at the WH Reservoir and a short Havdalah se
 rvice. This activity is open to all\; dogs are not required for participat
 ion. Please RSVP to mmeyer@cbict.org.
DTSTART;TZID=America/New_York:20231021T160000
DTEND;TZID=America/New_York:20231021T170000
END:VEVENT
END:VCALENDAR
