BEGIN:VCALENDAR
PRODID:-//eluceo/ical//2.0/EN
VERSION:2.0
CALSCALE:GREGORIAN
BEGIN:VEVENT
UID:68833d455ae3439177570984ccfd3ab6
DTSTAMP:20260423T033957Z
SUMMARY:Schechter Board Meeting
DESCRIPTION:Jewish Federation of Greater Hartford\nCommunity Calendar\nhttp
 s://jewishhartford.org/community-calendar/schechter-state-of-school-addres
 s-1684794217\n\nBoard Meeting
DTSTART;TZID=America/New_York:20240222T190000
DTEND;TZID=America/New_York:20240222T210000
END:VEVENT
END:VCALENDAR
