BEGIN:VCALENDAR
PRODID:-//eluceo/ical//2.0/EN
VERSION:2.0
CALSCALE:GREGORIAN
BEGIN:VEVENT
UID:304df9606cf10322ff42f75742812742
DTSTAMP:20260422T082306Z
SUMMARY:Schechter Monthly Board Meeting
DESCRIPTION:Jewish Federation of Greater Hartford\nCommunity Calendar\nhttp
 s://jewishhartford.org/community-calendar/schechter-monthly-board-meeting-
 1718656406\n\nFirst Monthly Meeting 2024-2025
DTSTART;TZID=America/New_York:20240827T190000
DTEND;TZID=America/New_York:20240827T210000
END:VEVENT
END:VCALENDAR
