BEGIN:VCALENDAR
PRODID:-//eluceo/ical//2.0/EN
VERSION:2.0
CALSCALE:GREGORIAN
BEGIN:VEVENT
UID:04c2e1b781d3dd2f14b9cd30b8b50209
DTSTAMP:20260421T143910Z
SUMMARY:Schechter Graduation
DESCRIPTION:Jewish Federation of Greater Hartford\nCommunity Calendar\nhttp
 s://jewishhartford.org/community-calendar/schechter-graduation-1684800141\
 n\nJoin us as we celebrate the 2024 Schechter Graduates!
DTSTART;TZID=America/New_York:20240606T190000
DTEND;TZID=America/New_York:20240606T210000
END:VEVENT
END:VCALENDAR
