BEGIN:VCALENDAR
PRODID:-//eluceo/ical//2.0/EN
VERSION:2.0
CALSCALE:GREGORIAN
BEGIN:VEVENT
UID:7ef414dd1b1b6cbc15088493b0041e78
DTSTAMP:20260425T161403Z
SUMMARY:Schechter Board Meeting
DESCRIPTION:Jewish Federation of Greater Hartford\nCommunity Calendar\nhttp
 s://jewishhartford.org/community-calendar/schechter-board-meeting-16847992
 23\n\nFinal Schechter Board Meeting with Vote on New Trustees
DTSTART;TZID=America/New_York:20230606T190000
DTEND;TZID=America/New_York:20230606T210000
END:VEVENT
END:VCALENDAR
