BEGIN:VCALENDAR
PRODID:-//eluceo/ical//2.0/EN
VERSION:2.0
CALSCALE:GREGORIAN
BEGIN:VEVENT
UID:488b5dd57e58294fa9548e969935bc7c
DTSTAMP:20260423T043221Z
SUMMARY:Schechter Board Meeting
DESCRIPTION:Jewish Federation of Greater Hartford\nCommunity Calendar\nhttp
 s://jewishhartford.org/community-calendar/schechter-board-meeting-16847939
 81\n\nMonthly meeting of the Board of Trustees
DTSTART;TZID=America/New_York:20240118T190000
DTEND;TZID=America/New_York:20240118T210000
END:VEVENT
END:VCALENDAR
