BEGIN:VCALENDAR
PRODID:-//eluceo/ical//2.0/EN
VERSION:2.0
CALSCALE:GREGORIAN
BEGIN:VEVENT
UID:4214711018652a8df4258521c90020b9
DTSTAMP:20260423T042833Z
SUMMARY:Schechter Board Meeting
DESCRIPTION:Jewish Federation of Greater Hartford\nCommunity Calendar\nhttp
 s://jewishhartford.org/community-calendar/schechter-board-meeting-16847937
 28\n\nMonthly meetinf of the Schechter Board of Trustees
DTSTART;TZID=America/New_York:20231221T190000
DTEND;TZID=America/New_York:20231221T210000
END:VEVENT
END:VCALENDAR
