BEGIN:VCALENDAR
PRODID:-//eluceo/ical//2.0/EN
VERSION:2.0
CALSCALE:GREGORIAN
BEGIN:VEVENT
UID:bab8aba9bee78e5a5194e06b6ed0b6da
DTSTAMP:20260423T130512Z
SUMMARY:Schechter Board Meeting
DESCRIPTION:Jewish Federation of Greater Hartford\nCommunity Calendar\nhttp
 s://jewishhartford.org/community-calendar/schechter-board-meeting-16847935
 81\n\nMonthly meeting of the Schechter Board of Trustees
DTSTART;TZID=America/New_York:20231116T190000
DTEND;TZID=America/New_York:20231116T210000
END:VEVENT
END:VCALENDAR
