BEGIN:VCALENDAR
PRODID:-//eluceo/ical//2.0/EN
VERSION:2.0
CALSCALE:GREGORIAN
BEGIN:VEVENT
UID:78c7af292eecd08f37b0284a3f8d31f4
DTSTAMP:20260423T224328Z
SUMMARY:Schechter Board Meeting
DESCRIPTION:Jewish Federation of Greater Hartford\nCommunity Calendar\nhttp
 s://jewishhartford.org/community-calendar/schechter-board-meeting-16847933
 89\n\nMonthly meeting of the Board of Trustees
DTSTART;TZID=America/New_York:20231019T190000
DTEND;TZID=America/New_York:20231019T210000
END:VEVENT
END:VCALENDAR
