BEGIN:VCALENDAR
PRODID:-//eluceo/ical//2.0/EN
VERSION:2.0
CALSCALE:GREGORIAN
BEGIN:VEVENT
UID:048f192a80fe9df0df65b802ba7e2816
DTSTAMP:20260420T130125Z
SUMMARY:SAGE: The Elizabeth Park Conservancy with Christine Doty
DESCRIPTION:Jewish Federation of Greater Hartford\nCommunity Calendar\nhttp
 s://jewishhartford.org/community-calendar/sage-the-elizabeth-park-conserva
 ncy-with-christine-doty-1713978508\n\nThe Conservancy contributes signific
 antly to the maintenance\, preservation\, and improvement of Elizabeth Par
 k\, our urban jewel listed on the National Registry of Historic Places. Ch
 ristine Doty\, President and CEO of the Conservancy\, will talk about the 
 history and evolution of the park over the last 125 years\, its wide-rangi
 ng and positive impacts on the community\, and offer thoughts on future pa
 rk developments. A light buffet lunch follows each SAGE in-person presenta
 tion at a cost of $12 pe...
DTSTART;TZID=America/New_York:20240611T110000
DTEND;TZID=America/New_York:20240611T120000
END:VEVENT
END:VCALENDAR
