BEGIN:VCALENDAR
PRODID:-//eluceo/ical//2.0/EN
VERSION:2.0
CALSCALE:GREGORIAN
BEGIN:VEVENT
UID:003d8a9eff1ed3f000ba418a1a935118
DTSTAMP:20260424T092504Z
SUMMARY:SAGE: Musical Entertainment with Jeff Weiselberg
DESCRIPTION:Jewish Federation of Greater Hartford\nCommunity Calendar\nhttp
 s://jewishhartford.org/community-calendar/sage-musical-entertainment-with-
 jeff-weiselberg-1695751698\n\nLocal jazz pianist and vocalist Jeff Weiselb
 erg returns to the “SAGE Stage” for an hour of musical enjoyment. He w
 ill perform a wide variety of popular songs (pop\, jazz\, blues\, rock\, a
 nd Broadway) from throughout the 20th century\, and a bit from the new mil
 lennium\, too. Questions? Contact Barb Lavine at wslavine@comcast.net or 8
 60-913-5744 or Kay Weiss at steven.k.weiss@gmail.com or 860-430-6284
DTSTART;TZID=America/New_York:20231024T110000
DTEND;TZID=America/New_York:20231024T120000
END:VEVENT
END:VCALENDAR
