BEGIN:VCALENDAR
PRODID:-//eluceo/ical//2.0/EN
VERSION:2.0
CALSCALE:GREGORIAN
BEGIN:VEVENT
UID:f17014009d64f9ba3a7328b36d980bf7
DTSTAMP:20260423T092637Z
SUMMARY:RED LETTER - October 7 Commemoration
DESCRIPTION:Jewish Federation of Greater Hartford\nCommunity Calendar\nhttp
 s://jewishhartford.org/community-calendar/red-letter-october-7-commemerati
 on\n\nDetails To Be Announced 
DTSTART;TZID=America/New_York:20241007T000000
DTEND;TZID=America/New_York:20241007T235959
END:VEVENT
END:VCALENDAR
