BEGIN:VCALENDAR
PRODID:-//eluceo/ical//2.0/EN
VERSION:2.0
CALSCALE:GREGORIAN
BEGIN:VEVENT
UID:3a31a557ca885cd96768f3a889f43c61
DTSTAMP:20260426T033514Z
SUMMARY:RED LETTER: JCC Annual Meeting
DESCRIPTION:Jewish Federation of Greater Hartford\nCommunity Calendar\nhttp
 s://jewishhartford.org/community-calendar/red-letter-jcc-annual-meeting-16
 54280893\n\nJCC Annual Meeting
DTSTART;TZID=America/New_York:20230614T190000
DTEND;TZID=America/New_York:20230614T210000
END:VEVENT
END:VCALENDAR
